BEGIN:VCALENDAR
VERSION:2.0
PRODID:-//AudioTheme 2.3.5
BEGIN:VEVENT
UID:urn:uuid:eb264805-ec02-44ef-b427-4271421513ca
URL:https://taniajoy.com/shows/the-woodpile/
DTSTART;TZID=GMT:20231203T000000
SUMMARY:The Woodpile
DESCRIPTION:supporting Bob Wiseman 
LOCATION:The Woodpile\, 10899 Concession 4\, Zephyr\, Ontario\, Canada\, L0E 1T0
END:VEVENT
END:VCALENDAR
