BEGIN:VCALENDAR
VERSION:2.0
PRODID:-//AudioTheme 2.3.5
BEGIN:VEVENT
UID:urn:uuid:14aa9908-a27e-4587-be94-2d758911ed77
URL:https://taniajoy.com/shows/songs-on-fire-live-and-in-the-round/
DTSTART;TZID=GMT:20240304T000000
SUMMARY:Songs On Fire: Live And In The Round
DESCRIPTION:Songs On Fire: Live And In The Round
LOCATION:Cameron House\, 408 Queen St West\, Toronto\, ON\, Canada\, M5V 2A7
END:VEVENT
END:VCALENDAR
