BEGIN:VCALENDAR
VERSION:2.0
PRODID:-//AudioTheme 2.3.5
BEGIN:VEVENT
UID:urn:uuid:bbb9ad5a-6d8f-4638-932d-ee613d0bd330
URL:https://taniajoy.com/shows/our-music-festival/
DTSTART;TZID=GMT:20240308T000000
SUMMARY:Our Music Festival
DESCRIPTION:Our Music Festival – Hugh's Room
LOCATION:Hugh's Room Live\, 296 Broadview Ave\, Toronto\, Ontario\, Canada\, M4M 2G7
END:VEVENT
END:VCALENDAR
