BEGIN:VCALENDAR
VERSION:2.0
PRODID:-//AudioTheme 2.3.5
BEGIN:VEVENT
UID:urn:uuid:0e6b015f-f661-4781-a0e7-ef90ecd93fd8
URL:https://taniajoy.com/shows/greenbank-folk-society/
DTSTART;TZID=GMT:20230326T000000
SUMMARY:Greenbank Folk Society
DESCRIPTION:Greenbank Folk Society
LOCATION:Greenbank Centennial Hall\, 19965 ON-12\, Greenbank\, \, Canada\, L0C 1B0
END:VEVENT
END:VCALENDAR
