BEGIN:VCALENDAR
VERSION:2.0
PRODID:-//AudioTheme 2.3.5
BEGIN:VEVENT
UID:urn:uuid:f5151842-9ee7-4379-bc29-6704ea979e29
URL:https://taniajoy.com/shows/2023-11-19/
DTSTART;TZID=GMT:20231112T200000
SUMMARY:Tania Joy @ Second Wedge Brewing Co.
LOCATION:The Second Wedge Brewing Co.\, 14 Victoria St.\, Uxbridge\, ON\, Canada\, L9P 1B1
END:VEVENT
END:VCALENDAR
